BEGIN:VCALENDAR
VERSION:2.0
PRODID:-//Ecobul.org - ECPv6.15.20//NONSGML v1.0//EN
CALSCALE:GREGORIAN
METHOD:PUBLISH
X-WR-CALNAME:Ecobul.org
X-ORIGINAL-URL:https://ecobul.org
X-WR-CALDESC:Évènements pour Ecobul.org
REFRESH-INTERVAL;VALUE=DURATION:PT1H
X-Robots-Tag:noindex
X-PUBLISHED-TTL:PT1H
BEGIN:VTIMEZONE
TZID:Europe/Paris
BEGIN:DAYLIGHT
TZOFFSETFROM:+0100
TZOFFSETTO:+0200
TZNAME:CEST
DTSTART:20220327T010000
END:DAYLIGHT
BEGIN:STANDARD
TZOFFSETFROM:+0200
TZOFFSETTO:+0100
TZNAME:CET
DTSTART:20221030T010000
END:STANDARD
BEGIN:DAYLIGHT
TZOFFSETFROM:+0100
TZOFFSETTO:+0200
TZNAME:CEST
DTSTART:20230326T010000
END:DAYLIGHT
BEGIN:STANDARD
TZOFFSETFROM:+0200
TZOFFSETTO:+0100
TZNAME:CET
DTSTART:20231029T010000
END:STANDARD
BEGIN:DAYLIGHT
TZOFFSETFROM:+0100
TZOFFSETTO:+0200
TZNAME:CEST
DTSTART:20240331T010000
END:DAYLIGHT
BEGIN:STANDARD
TZOFFSETFROM:+0200
TZOFFSETTO:+0100
TZNAME:CET
DTSTART:20241027T010000
END:STANDARD
BEGIN:DAYLIGHT
TZOFFSETFROM:+0100
TZOFFSETTO:+0200
TZNAME:CEST
DTSTART:20250330T010000
END:DAYLIGHT
BEGIN:STANDARD
TZOFFSETFROM:+0200
TZOFFSETTO:+0100
TZNAME:CET
DTSTART:20251026T010000
END:STANDARD
END:VTIMEZONE
BEGIN:VEVENT
DTSTART;TZID=Europe/Paris:20240117T153000
DTEND;TZID=Europe/Paris:20240117T170000
DTSTAMP:20260420T161408
CREATED:20231222T140834Z
LAST-MODIFIED:20240104T145940Z
UID:3249-1705505400-1705510800@ecobul.org
SUMMARY:Atelier lait d'or\, chocolat chaud antillais et goûter
DESCRIPTION:Venez réaliser une pâte de lait d’or à ramener à la maison\, un chocolat chaud antillais et de délicieux cookies pour un bon goûter de début d’année ! \nAtelier idéal parent/enfant \nPrix dirigé : 5-8-10€
URL:https://ecobul.org/evenement/atelier-lait-dor-chocolat-chaud-antillais-et-gouter/
LOCATION:La Butinerie\, 209 avenue Jean Lolive\, Pantin\, 93500\, France
CATEGORIES:Cuisine/Alimentation
ATTACH;FMTTYPE=image/jpeg:https://ecobul.org/site/wp-content/uploads/2023/12/23dbee7df14d423c00e9300631357527.jpg
END:VEVENT
BEGIN:VEVENT
DTSTART;TZID=Europe/Paris:20240110T160000
DTEND;TZID=Europe/Paris:20240110T170000
DTSTAMP:20260420T161408
CREATED:20231222T141422Z
LAST-MODIFIED:20231222T141422Z
UID:3254-1704902400-1704906000@ecobul.org
SUMMARY:Atelier boules de graisses pour les oiseaux
DESCRIPTION:Venez confectionner des boules de graisse à partir de matériaux de récupération pour nos amis les oiseaux ! \nAtelier idéal parent/enfant \nPrix : 5€
URL:https://ecobul.org/evenement/atelier-boules-de-graisses-pour-les-oiseaux/
LOCATION:La Butinerie\, 209 avenue Jean Lolive\, Pantin\, 93500\, France
CATEGORIES:Jardinage
ATTACH;FMTTYPE=image/jpeg:https://ecobul.org/site/wp-content/uploads/2023/12/7072841268cfd32552038a09f621ef1e.jpg
END:VEVENT
BEGIN:VEVENT
DTSTART;TZID=Europe/Paris:20231220T100000
DTEND;TZID=Europe/Paris:20231220T120000
DTSTAMP:20260420T161408
CREATED:20231205T123146Z
LAST-MODIFIED:20231205T123146Z
UID:3236-1703066400-1703073600@ecobul.org
SUMMARY:Atelier du Bien Manger
DESCRIPTION:Venez participer à un atelier cuisine de saison et anti-gaspi\, avec notre experte en nutrition ! \nRendez-vous au Pré de Chez Vous\, 1 rue Lamartine au Pré Saint Gervais\, à 10h. \nInscriptions par sms auprès d’Olga au 07.56.93.70.24
URL:https://ecobul.org/evenement/atelier-du-bien-manger-9/
LOCATION:Le Pré de chez vous\, 1 rue Lamartine\, Le Pré Saint Gervais\, 93310
CATEGORIES:Cuisine/Alimentation
ATTACH;FMTTYPE=image/jpeg:https://ecobul.org/site/wp-content/uploads/2023/03/atelier-TAP.jpg
END:VEVENT
BEGIN:VEVENT
DTSTART;TZID=Europe/Paris:20231219T100000
DTEND;TZID=Europe/Paris:20231219T140000
DTSTAMP:20260420T161408
CREATED:20231205T124223Z
LAST-MODIFIED:20231205T124223Z
UID:3245-1702980000-1702994400@ecobul.org
SUMMARY:Atelier Chef.fe d'un jour
DESCRIPTION:Un atelier de cuisine où vous êtes le.la chef.fe ! \nAccompagné par Olga\, notre experte en nutrition\, vous pourrez élaborer un menu qui sera servi à la cantine du midi de la Butinerie ! \nPlus d’informations et inscriptions auprès d’Olga au 07.56.93.70.24
URL:https://ecobul.org/evenement/atelier-chef-fe-dun-jour-2/
LOCATION:La Butinerie\, 209 avenue Jean Lolive\, Pantin\, 93500\, France
CATEGORIES:Cuisine/Alimentation
ATTACH;FMTTYPE=image/jpeg:https://ecobul.org/site/wp-content/uploads/2023/03/atelier-cheffe-dun-jour-2.jpg
END:VEVENT
BEGIN:VEVENT
DTSTART;TZID=Europe/Paris:20231213T153000
DTEND;TZID=Europe/Paris:20231213T170000
DTSTAMP:20260420T161408
CREATED:20231205T122526Z
LAST-MODIFIED:20231205T122526Z
UID:3229-1702481400-1702486800@ecobul.org
SUMMARY:Atelier Biscuits de Noël
DESCRIPTION:Atelier de fabrication de gâteaux pour un Noël solidaire ! \nVenez cuisinez avec nous des biscuits qui seront ensuite proposés à prix libre sur le marché de Noël des Quatres Chemins. \nVous repartirez bien-sûr avec votre réserve de biscuits ! \nAtelier idéal parent-enfant. \nPrix dirigé : 5€ et plus \nInscriptions ici
URL:https://ecobul.org/evenement/atelier-biscuits-de-noel-2/
LOCATION:La Butinerie\, 209 avenue Jean Lolive\, Pantin\, 93500\, France
CATEGORIES:Cuisine/Alimentation
ATTACH;FMTTYPE=image/jpeg:https://ecobul.org/site/wp-content/uploads/2023/12/f294d5a5e4abaf5112a7f686cfd09f4f.jpg
END:VEVENT
BEGIN:VEVENT
DTSTART;TZID=Europe/Paris:20231213T140000
DTEND;TZID=Europe/Paris:20231213T153000
DTSTAMP:20260420T161408
CREATED:20231205T123559Z
LAST-MODIFIED:20231205T123752Z
UID:3241-1702476000-1702481400@ecobul.org
SUMMARY:Atelier Blanc de Meudon
DESCRIPTION:Un atelier ouvert à toutes et tous\, pour nous aider à décorer les vitres de la Butinerie grâce à de la peinture écologique et à petit prix ! \nIdéal parent-enfant\, à partir de 8ans. \nRendez-vous à partir de 14h au forum de La Butinerie ! \nInscriptions ici
URL:https://ecobul.org/evenement/atelier-blanc-de-meudon/
LOCATION:La Butinerie\, 209 avenue Jean Lolive\, Pantin\, 93500\, France
CATEGORIES:Zéro déchets
ATTACH;FMTTYPE=image/jpeg:https://ecobul.org/site/wp-content/uploads/2023/12/9919af248050a3c310a77cf38bec8b2f.jpg
END:VEVENT
BEGIN:VEVENT
DTSTART;TZID=Europe/Paris:20231213T103000
DTEND;TZID=Europe/Paris:20231213T123000
DTSTAMP:20260420T161408
CREATED:20231205T122926Z
LAST-MODIFIED:20231205T122926Z
UID:3233-1702463400-1702470600@ecobul.org
SUMMARY:Atelier du Bien Manger
DESCRIPTION:Venez participer à un atelier cuisine de saison et anti-gaspi\, avec notre experte en nutrition ! \nRendez-vous au Pas si Loin\, 1 rue Berthier à Pantin\, à 10h30. \nInscriptions par sms auprès d’Olga au 07.56.93.70.24
URL:https://ecobul.org/evenement/atelier-du-bien-manger-8/
LOCATION:Pas Si Loin\, 1 rue berthier\, pantin\, 93500\, France
CATEGORIES:Cuisine/Alimentation
ATTACH;FMTTYPE=image/jpeg:https://ecobul.org/site/wp-content/uploads/2023/03/atelier-asso-rgby-5.jpg
END:VEVENT
BEGIN:VEVENT
DTSTART;TZID=Europe/Paris:20231206T153000
DTEND;TZID=Europe/Paris:20231206T170000
DTSTAMP:20260420T161408
CREATED:20231205T122406Z
LAST-MODIFIED:20231205T122406Z
UID:3225-1701876600-1701882000@ecobul.org
SUMMARY:Atelier biscuits de Noël
DESCRIPTION:Atelier de fabrication de gâteaux pour un Noël solidaire ! \nVenez cuisinez avec nous des biscuits qui seront ensuite proposés à prix libre sur le marché de Noël des Quatres Chemins. \nVous repartirez bien-sûr avec votre réserve de biscuits ! \nAtelier idéal parent-enfant. \nPrix dirigé : 5€ et plus \nInscriptions ici
URL:https://ecobul.org/evenement/atelier-biscuits-de-noel/
LOCATION:La Butinerie\, 209 avenue Jean Lolive\, Pantin\, 93500\, France
CATEGORIES:Cuisine/Alimentation
ATTACH;FMTTYPE=image/jpeg:https://ecobul.org/site/wp-content/uploads/2023/12/f294d5a5e4abaf5112a7f686cfd09f4f.jpg
END:VEVENT
BEGIN:VEVENT
DTSTART;TZID=Europe/Paris:20231206T140000
DTEND;TZID=Europe/Paris:20231206T153000
DTSTAMP:20260420T161408
CREATED:20231205T121928Z
LAST-MODIFIED:20231205T121928Z
UID:3221-1701871200-1701876600@ecobul.org
SUMMARY:Atelier couronnes de l'avent
DESCRIPTION:Pour fabriquer votre propre couronne de l’avent végétalisée ! \nRendez-vous à la Butinerie à partir de 14h. \nAtelier idéal parent-enfant \nPrix dirigé : 10-15-20€ selon vos moyens ! \nInscriptions ici 
URL:https://ecobul.org/evenement/atelier-couronnes-de-lavent/
LOCATION:La Butinerie\, 209 avenue Jean Lolive\, Pantin\, 93500\, France
CATEGORIES:Zéro déchets
ATTACH;FMTTYPE=image/jpeg:https://ecobul.org/site/wp-content/uploads/2023/12/70a68b0b8b6b167ac736e5307be60665.jpg
END:VEVENT
BEGIN:VEVENT
DTSTART;TZID=Europe/Paris:20231206T103000
DTEND;TZID=Europe/Paris:20231206T123000
DTSTAMP:20260420T161408
CREATED:20231205T121519Z
LAST-MODIFIED:20231205T123209Z
UID:3218-1701858600-1701865800@ecobul.org
SUMMARY:Atelier du Bien Manger
DESCRIPTION:Venez participer à un atelier cuisine de saison et anti-gaspi\, avec notre experte en nutrition ! \nRendez-vous à la maison de quartier des Courtilières à 10h30. \nInscriptions par sms auprès d’Olga au 07.56.93.70.24
URL:https://ecobul.org/evenement/atelier-du-bien-manger-7/
LOCATION:Maison de Quartier des Courtilières\, 1 Av. Aimé Césaire\, Pantin\, 93500\, France
CATEGORIES:Cuisine/Alimentation
ATTACH;FMTTYPE=image/jpeg:https://ecobul.org/site/wp-content/uploads/2023/03/ABM-courtillieres.jpg
END:VEVENT
BEGIN:VEVENT
DTSTART;TZID=Europe/Paris:20231129T183000
DTEND;TZID=Europe/Paris:20231129T200000
DTSTAMP:20260420T161408
CREATED:20231106T120214Z
LAST-MODIFIED:20231106T120214Z
UID:3208-1701282600-1701288000@ecobul.org
SUMMARY:Apéro des  Butineurs
DESCRIPTION:
URL:https://ecobul.org/evenement/apero-des-butineurs-4/
LOCATION:La Butinerie\, 209 avenue Jean Lolive\, Pantin\, 93500\, France
CATEGORIES:Info Association
ATTACH;FMTTYPE=image/jpeg:https://ecobul.org/site/wp-content/uploads/2023/09/apero.jpg
END:VEVENT
BEGIN:VEVENT
DTSTART;TZID=Europe/Paris:20231129T140000
DTEND;TZID=Europe/Paris:20231129T170000
DTSTAMP:20260420T161408
CREATED:20231106T115939Z
LAST-MODIFIED:20231106T115939Z
UID:3205-1701266400-1701277200@ecobul.org
SUMMARY:Permanence au jardin de la Butinerie
DESCRIPTION:Tous les mercredis de 15h à 17h\, sous réserve de temps sec\, l’association anime une permanence jardinage au jardin de la Butinerie.
URL:https://ecobul.org/evenement/permanence-au-jardin-de-la-butinerie-22/
LOCATION:La Butinerie\, 209 avenue Jean Lolive\, Pantin\, 93500\, France
CATEGORIES:Jardinage
ATTACH;FMTTYPE=image/jpeg:https://ecobul.org/site/wp-content/uploads/2023/09/20230726_122934-scaled.jpg
END:VEVENT
BEGIN:VEVENT
DTSTART;TZID=Europe/Paris:20231128T103000
DTEND;TZID=Europe/Paris:20231128T133000
DTSTAMP:20260420T161408
CREATED:20231106T114228Z
LAST-MODIFIED:20231106T114228Z
UID:3184-1701167400-1701178200@ecobul.org
SUMMARY:Atelier Chef.fe d'un jour
DESCRIPTION:Atelier de découverte de la cuisine du monde axé sur la nutrition.
URL:https://ecobul.org/evenement/atelier-chef-fe-dun-jour/
LOCATION:La Butinerie\, 209 avenue Jean Lolive\, Pantin\, 93500\, France
CATEGORIES:Cuisine/Alimentation
ATTACH;FMTTYPE=image/jpeg:https://ecobul.org/site/wp-content/uploads/2023/03/atelier-cheffe-dun-jour-2.jpg
END:VEVENT
BEGIN:VEVENT
DTSTART;TZID=Europe/Paris:20231125T140000
DTEND;TZID=Europe/Paris:20231125T170000
DTSTAMP:20260420T161408
CREATED:20231106T115130Z
LAST-MODIFIED:20231106T115130Z
UID:3193-1700920800-1700931600@ecobul.org
SUMMARY:Permanence au jardin de la Récolte Pantinoise
DESCRIPTION:Tous les samedis à partir de 14h (sous réserve de beau temps)\, le jardin est ouvert pour une permanence jardinage\, détente et rencontres entre habitants du quartier.
URL:https://ecobul.org/evenement/permanence-au-jardin-de-la-recolte-pantinoise-3/
LOCATION:Jardin La Récolte Pantinoise\, 6 rue Jules Auffret\, Pantin\, 93500\, France
CATEGORIES:Jardinage
ATTACH;FMTTYPE=image/jpeg:https://ecobul.org/site/wp-content/uploads/2023/09/203569b1-492e-4649-9ed0-1b3b8d8254c9.jpg
END:VEVENT
BEGIN:VEVENT
DTSTART;TZID=Europe/Paris:20231122T160000
DTEND;TZID=Europe/Paris:20231122T170000
DTSTAMP:20260420T161408
CREATED:20231106T113651Z
LAST-MODIFIED:20231106T113651Z
UID:3181-1700668800-1700672400@ecobul.org
SUMMARY:Atelier Chantilly de Karité
DESCRIPTION:Venez réaliser une crème à tout faire maison pour l’hiver\, à base d’ingrédients faciles à trouver !
URL:https://ecobul.org/evenement/atelier-chantilly-de-karite/
LOCATION:La Butinerie\, 209 avenue Jean Lolive\, Pantin\, 93500\, France
CATEGORIES:Zéro déchets
ATTACH;FMTTYPE=image/jpeg:https://ecobul.org/site/wp-content/uploads/2022/08/DIY-Recettes-de-produits-menagers-naturels.jpg
END:VEVENT
BEGIN:VEVENT
DTSTART;TZID=Europe/Paris:20231122T140000
DTEND;TZID=Europe/Paris:20231122T170000
DTSTAMP:20260420T161408
CREATED:20231106T115843Z
LAST-MODIFIED:20231106T115843Z
UID:3202-1700661600-1700672400@ecobul.org
SUMMARY:Permanence au jardin de la Butinerie
DESCRIPTION:Tous les mercredis de 15h à 17h\, sous réserve de temps sec\, l’association anime une permanence jardinage au jardin de la Butinerie.
URL:https://ecobul.org/evenement/permanence-au-jardin-de-la-butinerie-21/
LOCATION:La Butinerie\, 209 avenue Jean Lolive\, Pantin\, 93500\, France
CATEGORIES:Jardinage
ATTACH;FMTTYPE=image/jpeg:https://ecobul.org/site/wp-content/uploads/2023/09/20230726_122934-scaled.jpg
END:VEVENT
BEGIN:VEVENT
DTSTART;TZID=Europe/Paris:20231122T100000
DTEND;TZID=Europe/Paris:20231122T114500
DTSTAMP:20260420T161408
CREATED:20231106T112424Z
LAST-MODIFIED:20231106T112424Z
UID:3178-1700647200-1700653500@ecobul.org
SUMMARY:Atelier Bien dans mon assiette
DESCRIPTION:Venez participer à un atelier ludique sur les bases de la nutrition avec Olga\, notre Nutritionniste !
URL:https://ecobul.org/evenement/atelier-bien-dans-mon-assiette-4/
LOCATION:Le Pré de chez vous\, 1 rue Lamartine\, Le Pré Saint Gervais\, 93310
CATEGORIES:Cuisine/Alimentation
ATTACH;FMTTYPE=image/png:https://ecobul.org/site/wp-content/uploads/2023/02/Capture-decran-2023-02-15-a-12.16.47.png
END:VEVENT
BEGIN:VEVENT
DTSTART;TZID=Europe/Paris:20231118T150000
DTEND;TZID=Europe/Paris:20231118T170000
DTSTAMP:20260420T161408
CREATED:20231106T112058Z
LAST-MODIFIED:20231106T112058Z
UID:3173-1700319600-1700326800@ecobul.org
SUMMARY:Animation Le Réemploi Pantinois - Repair Eco Place
DESCRIPTION:Dans le cadre de sa compétence déchets\, Est Ensemble vise à la réduction\, au tri et à la valorisation\ndes déchets par notamment la prise de conscience de l’impact de la mise en œuvre des gestes de\nprévention et réduction des déchets\, par les populations et les acteurs de son territoire.\nAfin de répondre aux objectifs de politique publique menée par Est Ensemble\, un appel à projets\n« Zéro Déchet – 2021-2022 » relatif aux actions de prévention et de sensibilisation pour la réduction\ndes déchets à destination des associations et entreprises de l’économie sociale et solidaire (ESS) a été\nlancé.\nCes actions ont pour but de sensibiliser le grand public et/ou des publics ciblés aux pratiques de la\nprévention\, du tri\, de la réduction\, du réemploi\, du recyclage et de la valorisation des déchets. \nEcobul a été retenu pour proposer la campagne de sensibilisation « Le Réemploi pantinois »\, s’articulant sur 6 thématiques : les vêtements\, les jouets\, le compostage\, les vélos\, les téléphones et ordinateurs portables et les médicaments. \nC’est au tour ce samedi 18 novembre de la collecte pour la revalorisation des téléphones portables et ordinateurs portables avec l’association Repair Eco Place. \nDe 15h à 17h\, un atelier de réparation aura lieu dans l’espace café-forum de La Butinerie !
URL:https://ecobul.org/evenement/animation-le-reemploi-pantinois-repair-eco-place/
LOCATION:La Butinerie\, 209 avenue Jean Lolive\, Pantin\, 93500\, France
CATEGORIES:Zéro déchets
ATTACH;FMTTYPE=image/jpeg:https://ecobul.org/site/wp-content/uploads/2023/11/smartphone-ordinateur-imprimante-que-faire-vieux-appareils-high-tech.jpg
END:VEVENT
BEGIN:VEVENT
DTSTART;TZID=Europe/Paris:20231118T140000
DTEND;TZID=Europe/Paris:20231118T170000
DTSTAMP:20260420T161408
CREATED:20231106T115023Z
LAST-MODIFIED:20231106T115023Z
UID:3190-1700316000-1700326800@ecobul.org
SUMMARY:Permanence au jardin de La Récolte Pantinoise
DESCRIPTION:Tous les samedis à partir de 14h (sous réserve de beau temps)\, le jardin est ouvert pour une permanence jardinage\, détente et rencontres entre habitants du quartier.
URL:https://ecobul.org/evenement/permanence-au-jardin-de-la-recolte-pantinoise-2/
LOCATION:Jardin La Récolte Pantinoise\, 6 rue Jules Auffret\, Pantin\, 93500\, France
CATEGORIES:Jardinage
ATTACH;FMTTYPE=image/jpeg:https://ecobul.org/site/wp-content/uploads/2023/09/203569b1-492e-4649-9ed0-1b3b8d8254c9.jpg
END:VEVENT
BEGIN:VEVENT
DTSTART;TZID=Europe/Paris:20231115T140000
DTEND;TZID=Europe/Paris:20231115T170000
DTSTAMP:20260420T161408
CREATED:20231106T115737Z
LAST-MODIFIED:20231106T115737Z
UID:3199-1700056800-1700067600@ecobul.org
SUMMARY:Permanence au jardin de la Butinerie
DESCRIPTION:Tous les mercredis de 15h à 17h\, sous réserve de temps sec\, l’association anime une permanence jardinage au jardin de la Butinerie.
URL:https://ecobul.org/evenement/permanence-au-jardin-de-la-butinerie-20/
LOCATION:La Butinerie\, 209 avenue Jean Lolive\, Pantin\, 93500\, France
CATEGORIES:Jardinage
ATTACH;FMTTYPE=image/jpeg:https://ecobul.org/site/wp-content/uploads/2023/09/20230726_122934-scaled.jpg
END:VEVENT
BEGIN:VEVENT
DTSTART;TZID=Europe/Paris:20231115T103000
DTEND;TZID=Europe/Paris:20231115T123000
DTSTAMP:20260420T161408
CREATED:20231106T110554Z
LAST-MODIFIED:20231106T110554Z
UID:3170-1700044200-1700051400@ecobul.org
SUMMARY:Atelier bien dans mon assiette
DESCRIPTION:Venez participer à un atelier ludique sur les bases de la nutrition\, animé par Olga notre nutritionniste !
URL:https://ecobul.org/evenement/atelier-bien-dans-mon-assiette-3/
LOCATION:Pas Si Loin\, 1 rue berthier\, pantin\, 93500\, France
CATEGORIES:Cuisine/Alimentation
ATTACH;FMTTYPE=image/png:https://ecobul.org/site/wp-content/uploads/2023/02/Capture-decran-2023-02-15-a-12.16.47.png
END:VEVENT
BEGIN:VEVENT
DTSTART;TZID=Europe/Paris:20231111T140000
DTEND;TZID=Europe/Paris:20231111T170000
DTSTAMP:20260420T161408
CREATED:20231106T114830Z
LAST-MODIFIED:20231106T114830Z
UID:3187-1699711200-1699722000@ecobul.org
SUMMARY:Permanence au jardin de la Récolte Pantinoise
DESCRIPTION:Tous les samedis à partir de 14h (sous réserve de beau temps)\, le jardin est ouvert pour une permanence jardinage\, détente et rencontres entre habitants du quartier.
URL:https://ecobul.org/evenement/permanence-au-jardin-de-la-recolte-pantinoise/
LOCATION:Jardin La Récolte Pantinoise\, 6 rue Jules Auffret\, Pantin\, 93500\, France
ATTACH;FMTTYPE=image/jpeg:https://ecobul.org/site/wp-content/uploads/2023/09/203569b1-492e-4649-9ed0-1b3b8d8254c9.jpg
END:VEVENT
BEGIN:VEVENT
DTSTART;TZID=Europe/Paris:20231108T150000
DTEND;TZID=Europe/Paris:20231108T170000
DTSTAMP:20260420T161408
CREATED:20231106T115441Z
LAST-MODIFIED:20231106T115441Z
UID:3196-1699455600-1699462800@ecobul.org
SUMMARY:Permanence au jardin de La Butinerie
DESCRIPTION:Tous les mercredis de 15h à 17h\, sous réserve de temps sec\, l’association anime une permanence jardinage au jardin de la Butinerie.
URL:https://ecobul.org/evenement/permanence-au-jardin-de-la-butinerie-19/
LOCATION:La Butinerie\, 209 avenue Jean Lolive\, Pantin\, 93500\, France
CATEGORIES:Jardinage
ATTACH;FMTTYPE=image/jpeg:https://ecobul.org/site/wp-content/uploads/2023/09/20230726_122934-scaled.jpg
END:VEVENT
BEGIN:VEVENT
DTSTART;TZID=Europe/Paris:20231108T103000
DTEND;TZID=Europe/Paris:20231108T123000
DTSTAMP:20260420T161408
CREATED:20231106T110032Z
LAST-MODIFIED:20231106T110032Z
UID:3167-1699439400-1699446600@ecobul.org
SUMMARY:Atelier Bien dans mon assiette
DESCRIPTION:Venez participer à un atelier ludique sur les bases de la nutrition\, animé par Olga notre nutritionniste !
URL:https://ecobul.org/evenement/atelier-bien-dans-mon-assiette-2/
LOCATION:Maison de Quartier des Courtilières\, 1 Av. Aimé Césaire\, Pantin\, 93500\, France
CATEGORIES:Cuisine/Alimentation
ATTACH;FMTTYPE=image/png:https://ecobul.org/site/wp-content/uploads/2023/02/Capture-decran-2023-02-15-a-12.16.47.png
END:VEVENT
BEGIN:VEVENT
DTSTART;TZID=Europe/Paris:20231018T100000
DTEND;TZID=Europe/Paris:20231018T120000
DTSTAMP:20260420T161408
CREATED:20231009T081437Z
LAST-MODIFIED:20231009T081437Z
UID:3159-1697623200-1697630400@ecobul.org
SUMMARY:Atelier du Bien Manger au Pré de chez vous - Le pain anti-gaspi
DESCRIPTION:
URL:https://ecobul.org/evenement/atelier-du-bien-manger-au-pre-de-chez-vous-le-pain-anti-gaspi/
LOCATION:Le Pré de chez vous\, 1 rue Lamartine\, Le Pré Saint Gervais\, 93310
CATEGORIES:Cuisine/Alimentation
ATTACH;FMTTYPE=image/jpeg:https://ecobul.org/site/wp-content/uploads/2023/03/ABM.jpg
END:VEVENT
BEGIN:VEVENT
DTSTART;TZID=Europe/Paris:20231014T140000
DTEND;TZID=Europe/Paris:20231014T170000
DTSTAMP:20260420T161408
CREATED:20231009T075422Z
LAST-MODIFIED:20231009T075956Z
UID:3147-1697292000-1697302800@ecobul.org
SUMMARY:Fête de l'automne à la Récolte Pantinoise !
DESCRIPTION:  \nLe nouveau jardin partagé de La Récolte Pantinoise\, inauguré au printemps\, ouvre ses portes tous les samedis après-midi de 14h à 17h pour des permanences jardinage. \nRendez-vous le samedi 14 octobre de 14h à 17h pour une fête de l’automne ! Au programme : jardinage\, atelier nichoirs pour les oiseaux\, rencontres… et d’autres surprises !
URL:https://ecobul.org/evenement/fete-de-lautomne-a-la-recolte-pantinoise/
LOCATION:Jardin La Récolte Pantinoise\, 6 rue Jules Auffret\, Pantin\, 93500\, France
CATEGORIES:Jardinage
END:VEVENT
BEGIN:VEVENT
DTSTART;TZID=Europe/Paris:20231011T150000
DTEND;TZID=Europe/Paris:20231011T170000
DTSTAMP:20260420T161408
CREATED:20231009T080214Z
LAST-MODIFIED:20231009T080214Z
UID:3152-1697036400-1697043600@ecobul.org
SUMMARY:Permanence au jardin de La Butinerie !
DESCRIPTION:  \nRendez-vous tous les mercredis de 15h à 17h pour un peu de jardinage et de bricolage !
URL:https://ecobul.org/evenement/permanence-au-jardin-de-la-butinerie-18/
LOCATION:La Butinerie\, 209 avenue Jean Lolive\, Pantin\, 93500\, France
ATTACH;FMTTYPE=image/jpeg:https://ecobul.org/site/wp-content/uploads/2023/09/20230801_104257-scaled.jpg
END:VEVENT
BEGIN:VEVENT
DTSTART;TZID=Europe/Paris:20231011T100000
DTEND;TZID=Europe/Paris:20231011T120000
DTSTAMP:20260420T161408
CREATED:20231009T080813Z
LAST-MODIFIED:20231009T080813Z
UID:3155-1697018400-1697025600@ecobul.org
SUMMARY:Atelier du bien manger au Pas si Loin - Le pain anti-gaspi
DESCRIPTION:  \n \n 
URL:https://ecobul.org/evenement/atelier-du-bien-manger-au-pas-si-loin-le-pain-anti-gaspi/
LOCATION:Pas Si Loin\, 1 rue berthier\, pantin\, 93500\, France
CATEGORIES:Cuisine/Alimentation
ATTACH;FMTTYPE=image/png:https://ecobul.org/site/wp-content/uploads/2023/02/Capture-decran-2023-02-15-a-12.16.47.png
END:VEVENT
BEGIN:VEVENT
DTSTART;TZID=Europe/Paris:20230920T150000
DTEND;TZID=Europe/Paris:20230920T170000
DTSTAMP:20260420T161408
CREATED:20230912T140604Z
LAST-MODIFIED:20230912T140604Z
UID:3136-1695222000-1695229200@ecobul.org
SUMMARY:Permanence au jardin de la butinerie
DESCRIPTION:Envie de passer un peu de temps au jardin de la Butinerie et de participer à son entretien et son embellissement ? \nDes permanences ont lieu tous les mercredis (sauf fermeture de la Butinerie) de 15h à 17h. \nVous pouvez prévenir de votre venue l’animatrice du jardin à l’adresse ecobuljardin@gmail.com \nN’hésitez pas à passer !
URL:https://ecobul.org/evenement/permanence-au-jardin-de-la-butinerie-17/
LOCATION:La Butinerie\, 209 avenue Jean Lolive\, Pantin\, 93500\, France
CATEGORIES:Jardinage
ATTACH;FMTTYPE=image/jpeg:https://ecobul.org/site/wp-content/uploads/2023/09/20230726_122934-scaled.jpg
END:VEVENT
BEGIN:VEVENT
DTSTART;TZID=Europe/Paris:20230917T110000
DTEND;TZID=Europe/Paris:20230917T170000
DTSTAMP:20260420T161408
CREATED:20230912T141136Z
LAST-MODIFIED:20230912T141136Z
UID:3139-1694948400-1694970000@ecobul.org
SUMMARY:Journée sans voiture à Pantin !
DESCRIPTION:Cette année\, Ecobul sera doublement présente à la journée sans voiture le 17 septembre !\nUn premier stand avenue Jean Lolive vous fera redécouvrir les légumineuses\, mais aussi la manière de confectionner une délicieuse pâte à tartiner maison.\nSur le deuxième stand situé avenue Edouard Vaillant aux Quatres Chemins\, atelier cuisine anti-gaspi avec la confection de pesto et de pancakes à base de fanes de légumes.
URL:https://ecobul.org/evenement/journee-sans-voiture-a-pantin/
LOCATION:avenue Jean Lolive\, 93500 Pantin
CATEGORIES:Cuisine/Alimentation
ATTACH;FMTTYPE=image/jpeg:https://ecobul.org/site/wp-content/uploads/2023/09/journee-sans-voiture.jpg
END:VEVENT
END:VCALENDAR